BEGIN:VCALENDAR
METHOD:PUBLISH
VERSION:2.0
CALSCALE:GREGORIAN
PRODID:-//NONSGML Sandhills Development\, LLC//NONSGML Sugar Calendar Fe
 eds v3.2.1//EN
X-WR-CALNAME:Test
X-WR-CALDESC:EnTeam Club
X-WR-TIMEZONE:UTC
BEGIN:VTIMEZONE
TZID:UTC
BEGIN:STANDARD
TZOFFSETFROM:+0000
TZOFFSETTO:+0000
DTSTART:20240223T000000
TZNAME:UTC
END:STANDARD
END:VTIMEZONE
BEGIN:VTIMEZONE
TZID:UTC
BEGIN:STANDARD
TZOFFSETFROM:+0000
TZOFFSETTO:+0000
DTSTART:20240223T000000
TZNAME:UTC
END:STANDARD
END:VTIMEZONE
BEGIN:VEVENT
SUMMARY:Test
DESCRIPTION:Info
URL;VALUE=URI:https://enteam.club/events/test/
UID:urn:uuid:d40dced7-1c6f-417f-be41-5526fabdc0cb
STATUS:CONFIRMED
ORGANIZER:
DTSTAMP:20260421T075728Z
DTSTART;TZID=UTC:20240823T120000
DTEND;TZID=UTC:20240823T150000
END:VEVENT
END:VCALENDAR